Workbook

Sheet Nhập theo ca
A1: MẪU TÍNH OEE THEO CA — MỖI DÒNG MỘT MÁY × MỘT CA
A2: Ô nền vàng là ô cần điền; ô khác là công thức — đừng gõ đè. Dữ liệu đang có là DỮ LIỆU MẪU: xoá vùng A6:M45 rồi ghi số của mình. Dòng đầu trùng ví dụ máy tiện trong bài viết.
A3: OEE = Sẵn sàng A × Hiệu suất P × Chất lượng Q (ISO 22400-2: APT/PBT × PRI×PQ/APT × GQ/PQ). Cột "Kiểm tra nhanh" = hàng đạt × chu kỳ chuẩn ÷ thời gian kế hoạch — phải bằng cột OEE.
A5: Ngày | B5: Ca | C5: Máy | D5: Mã hàng | E5: Thời gian ca (phút) | F5: Nghỉ theo lịch (phút) | G5: Dừng có kế hoạch (phút) | H5: Hỏng máy (phút) | I5: Cài đặt, đổi mã hàng (phút) | J5: Dừng khác ngoài kế hoạch (phút) | K5: Chu kỳ chuẩn (giây/sp) | L5: Sản lượng (sp) | M5: Hàng lỗi (sp) | N5: Thời gian kế hoạch (phút) | O5: Thời gian chạy (phút) | P5: Thời gian chuẩn đã làm (phút) | Q5: Hàng đạt (sp) | R5: Sẵn sàng A | S5: Hiệu suất P | T5: Chất lượng Q | U5: OEE | V5: Kiểm tra nhanh | W5: Tổn thất dừng máy (phút) | X5: Tổn thất tốc độ (phút) | Y5: Tổn thất chất lượng (phút) | Z5: Cần xem
A6: 01/10 | B6: Ca 1 | C6: Máy tiện 1 | D6: MH-A | E6: 480 | F6: 60 | G6: 0 | H6: 25 | I6: 35 | J6: 0 | K6: 60 | L6: 324 | M6: 10 | N6: =IF($E6="","",E6-F6-G6) -> 420 | O6: =IF(OR($E6="",N6<=0),"",N6-H6-I6-J6) -> 360 | P6: =IF(OR($E6="",N6<=0),"",K6*L6/60) -> 324 | Q6: =IF($E6="","",L6-M6) -> 314 | R6: =IF(OR($E6="",N6<=0),"",O6/N6) -> 0.85714286 | S6: =IF(OR(OR($E6="",N6<=0),O6<=0),"",P6/O6) -> 0.9 | T6: =IF(OR(OR($E6="",N6<=0),L6<=0),"",Q6/L6) -> 0.9691358 | U6: =IF(OR(R6="",S6="",T6=""),"",R6*S6*T6) -> 0.74761905 | V6: =IF(OR($E6="",N6<=0),"",Q6*K6/60/N6) -> 0.74761905 | W6: =IF(OR($E6="",N6<=0),"",N6-O6) -> 60 | X6: =IF(OR($E6="",N6<=0),"",O6-P6) -> 36 | Y6: =IF(OR($E6="",N6<=0),"",M6*K6/60) -> 10 | Z6: =IF($E6="","",IF(N6<=0,"Dừng có kế hoạch cả ca — không tính OEE",IF(O6<=0,"Không có thời gian chạy",IF(S6>1,"P > 100%: chu kỳ chuẩn đặt dài hơn thực tế?",""))))
A7: 01/10 | B7: Ca 1 | C7: Máy tiện 2 | D7: MH-B | E7: 480 | F7: 60 | G7: 0 | H7: 0 | I7: 25 | J7: 15 | K7: 45 | L7: 431 | M7: 9 | N7: =IF($E7="","",E7-F7-G7) -> 420 | O7: =IF(OR($E7="",N7<=0),"",N7-H7-I7-J7) -> 380 | P7: =IF(OR($E7="",N7<=0),"",K7*L7/60) -> 323.25 | Q7: =IF($E7="","",L7-M7) -> 422 | R7: =IF(OR($E7="",N7<=0),"",O7/N7) -> 0.9047619 | S7: =IF(OR(OR($E7="",N7<=0),O7<=0),"",P7/O7) -> 0.85065789 | T7: =IF(OR(OR($E7="",N7<=0),L7<=0),"",Q7/L7) -> 0.97911833 | U7: =IF(OR(R7="",S7="",T7=""),"",R7*S7*T7) -> 0.75357143 | V7: =IF(OR($E7="",N7<=0),"",Q7*K7/60/N7) -> 0.75357143 | W7: =IF(OR($E7="",N7<=0),"",N7-O7) -> 40 | X7: =IF(OR($E7="",N7<=0),"",O7-P7) -> 56.75 | Y7: =IF(OR($E7="",N7<=0),"",M7*K7/60) -> 6.75 | Z7: =IF($E7="","",IF(N7<=0,"Dừng có kế hoạch cả ca — không tính OEE",IF(O7<=0,"Không có thời gian chạy",IF(S7>1,"P > 100%: chu kỳ chuẩn đặt dài hơn thực tế?",""))))
A8: 01/10 | B8: Ca 1 | C8: Máy dập 1 | D8: MH-D | E8: 480 | F8: 60 | G8: 0 | H8: 20 | I8: 40 | J8: 15 | K8: 30 | L8: 828 | M8: 12 | N8: =IF($E8="","",E8-F8-G8) -> 420 | O8: =IF(OR($E8="",N8<=0),"",N8-H8-I8-J8) -> 345 | P8: =IF(OR($E8="",N8<=0),"",K8*L8/60) -> 414 | Q8: =IF($E8="","",L8-M8) -> 816 | R8: =IF(OR($E8="",N8<=0),"",O8/N8) -> 0.82142857 | S8: =IF(OR(OR($E8="",N8<=0),O8<=0),"",P8/O8) -> 1.2 | T8: =IF(OR(OR($E8="",N8<=0),L8<=0),"",Q8/L8) -> 0.98550725 | U8: =IF(OR(R8="",S8="",T8=""),"",R8*S8*T8) -> 0.97142857 | V8: =IF(OR($E8="",N8<=0),"",Q8*K8/60/N8) -> 0.97142857 | W8: =IF(OR($E8="",N8<=0),"",N8-O8) -> 75 | X8: =IF(OR($E8="",N8<=0),"",O8-P8) -> -69 | Y8: =IF(OR($E8="",N8<=0),"",M8*K8/60) -> 6 | Z8: =IF($E8="","",IF(N8<=0,"Dừng có kế hoạch cả ca — không tính OEE",IF(O8<=0,"Không có thời gian chạy",IF(S8>1,"P > 100%: chu kỳ chuẩn đặt dài hơn thực tế?","")))) -> P > 100%: chu kỳ chuẩn đặt dài hơn thực tế?
A9: 02/10 | B9: Ca 1 | C9: Máy tiện 1 | D9: MH-A | E9: 480 | F9: 60 | G9: 0 | H9: 0 | I9: 20 | J9: 10 | K9: 60 | L9: 359 | M9: 4 | N9: =IF($E9="","",E9-F9-G9) -> 420 | O9: =IF(OR($E9="",N9<=0),"",N9-H9-I9-J9) -> 390 | P9: =IF(OR($E9="",N9<=0),"",K9*L9/60) -> 359 | Q9: =IF($E9="","",L9-M9) -> 355 | R9: =IF(OR($E9="",N9<=0),"",O9/N9) -> 0.92857143 | S9: =IF(OR(OR($E9="",N9<=0),O9<=0),"",P9/O9) -> 0.92051282 | T9: =IF(OR(OR($E9="",N9<=0),L9<=0),"",Q9/L9) -> 0.98885794 | U9: =IF(OR(R9="",S9="",T9=""),"",R9*S9*T9) -> 0.8452381 | V9: =IF(OR($E9="",N9<=0),"",Q9*K9/60/N9) -> 0.8452381 | W9: =IF(OR($E9="",N9<=0),"",N9-O9) -> 30 | X9: =IF(OR($E9="",N9<=0),"",O9-P9) -> 31 | Y9: =IF(OR($E9="",N9<=0),"",M9*K9/60) -> 4 | Z9: =IF($E9="","",IF(N9<=0,"Dừng có kế hoạch cả ca — không tính OEE",IF(O9<=0,"Không có thời gian chạy",IF(S9>1,"P > 100%: chu kỳ chuẩn đặt dài hơn thực tế?",""))))
A10: 02/10 | B10: Ca 1 | C10: Máy tiện 2 | D10: MH-B | E10: 480 | F10: 60 | G10: 0 | H10: 60 | I10: 20 | J10: 0 | K10: 45 | L10: 394 | M10: 5 | N10: =IF($E10="","",E10-F10-G10) -> 420 | O10: =IF(OR($E10="",N10<=0),"",N10-H10-I10-J10) -> 340 | P10: =IF(OR($E10="",N10<=0),"",K10*L10/60) -> 295.5 | Q10: =IF($E10="","",L10-M10) -> 389 | R10: =IF(OR($E10="",N10<=0),"",O10/N10) -> 0.80952381 | S10: =IF(OR(OR($E10="",N10<=0),O10<=0),"",P10/O10) -> 0.86911765 | T10: =IF(OR(OR($E10="",N10<=0),L10<=0),"",Q10/L10) -> 0.98730964 | U10: =IF(OR(R10="",S10="",T10=""),"",R10*S10*T10) -> 0.69464286 | V10: =IF(OR($E10="",N10<=0),"",Q10*K10/60/N10) -> 0.69464286 | W10: =IF(OR($E10="",N10<=0),"",N10-O10) -> 80 | X10: =IF(OR($E10="",N10<=0),"",O10-P10) -> 44.5 | Y10: =IF(OR($E10="",N10<=0),"",M10*K10/60) -> 3.75 | Z10: =IF($E10="","",IF(N10<=0,"Dừng có kế hoạch cả ca — không tính OEE",IF(O10<=0,"Không có thời gian chạy",IF(S10>1,"P > 100%: chu kỳ chuẩn đặt dài hơn thực tế?",""))))
A11: 02/10 | B11: Ca 1 | C11: Máy dập 1 | D11: MH-D | E11: 480 | F11: 60 | G11: 0 | H11: 35 | I11: 50 | J11: 10 | K11: 30 | L11: 748 | M11: 15 | N11: =IF($E11="","",E11-F11-G11) -> 420 | O11: =IF(OR($E11="",N11<=0),"",N11-H11-I11-J11) -> 325 | P11: =IF(OR($E11="",N11<=0),"",K11*L11/60) -> 374 | Q11: =IF($E11="","",L11-M11) -> 733 | R11: =IF(OR($E11="",N11<=0),"",O11/N11) -> 0.77380952 | S11: =IF(OR(OR($E11="",N11<=0),O11<=0),"",P11/O11) -> 1.1507692 | T11: =IF(OR(OR($E11="",N11<=0),L11<=0),"",Q11/L11) -> 0.97994652 | U11: =IF(OR(R11="",S11="",T11=""),"",R11*S11*T11) -> 0.87261905 | V11: =IF(OR($E11="",N11<=0),"",Q11*K11/60/N11) -> 0.87261905 | W11: =IF(OR($E11="",N11<=0),"",N11-O11) -> 95 | X11: =IF(OR($E11="",N11<=0),"",O11-P11) -> -49 | Y11: =IF(OR($E11="",N11<=0),"",M11*K11/60) -> 7.5 | Z11: =IF($E11="","",IF(N11<=0,"Dừng có kế hoạch cả ca — không tính OEE",IF(O11<=0,"Không có thời gian chạy",IF(S11>1,"P > 100%: chu kỳ chuẩn đặt dài hơn thực tế?","")))) -> P > 100%: chu kỳ chuẩn đặt dài hơn thực tế?
A12: 03/10 | B12: Ca 1 | C12: Máy tiện 1 | D12: MH-A | E12: 480 | F12: 60 | G12: 30 | H12: 45 | I12: 15 | J12: 0 | K12: 60 | L12: 290 | M12: 6 | N12: =IF($E12="","",E12-F12-G12) -> 390 | O12: =IF(OR($E12="",N12<=0),"",N12-H12-I12-J12) -> 330 | P12: =IF(OR($E12="",N12<=0),"",K12*L12/60) -> 290 | Q12: =IF($E12="","",L12-M12) -> 284 | R12: =IF(OR($E12="",N12<=0),"",O12/N12) -> 0.84615385 | S12: =IF(OR(OR($E12="",N12<=0),O12<=0),"",P12/O12) -> 0.87878788 | T12: =IF(OR(OR($E12="",N12<=0),L12<=0),"",Q12/L12) -> 0.97931034 | U12: =IF(OR(R12="",S12="",T12=""),"",R12*S12*T12) -> 0.72820513 | V12: =IF(OR($E12="",N12<=0),"",Q12*K12/60/N12) -> 0.72820513 | W12: =IF(OR($E12="",N12<=0),"",N12-O12) -> 60 | X12: =IF(OR($E12="",N12<=0),"",O12-P12) -> 40 | Y12: =IF(OR($E12="",N12<=0),"",M12*K12/60) -> 6 | Z12: =IF($E12="","",IF(N12<=0,"Dừng có kế hoạch cả ca — không tính OEE",IF(O12<=0,"Không có thời gian chạy",IF(S12>1,"P > 100%: chu kỳ chuẩn đặt dài hơn thực tế?",""))))
A13: 03/10 | B13: Ca 1 | C13: Máy tiện 2 | D13: MH-B | E13: 480 | F13: 60 | G13: 0 | H13: 5 | I13: 25 | J13: 10 | K13: 45 | L13: 456 | M13: 7 | N13: =IF($E13="","",E13-F13-G13) -> 420 | O13: =IF(OR($E13="",N13<=0),"",N13-H13-I13-J13) -> 380 | P13: =IF(OR($E13="",N13<=0),"",K13*L13/60) -> 342 | Q13: =IF($E13="","",L13-M13) -> 449 | R13: =IF(OR($E13="",N13<=0),"",O13/N13) -> 0.9047619 | S13: =IF(OR(OR($E13="",N13<=0),O13<=0),"",P13/O13) -> 0.9 | T13: =IF(OR(OR($E13="",N13<=0),L13<=0),"",Q13/L13) -> 0.98464912 | U13: =IF(OR(R13="",S13="",T13=""),"",R13*S13*T13) -> 0.80178571 | V13: =IF(OR($E13="",N13<=0),"",Q13*K13/60/N13) -> 0.80178571 | W13: =IF(OR($E13="",N13<=0),"",N13-O13) -> 40 | X13: =IF(OR($E13="",N13<=0),"",O13-P13) -> 38 | Y13: =IF(OR($E13="",N13<=0),"",M13*K13/60) -> 5.25 | Z13: =IF($E13="","",IF(N13<=0,"Dừng có kế hoạch cả ca — không tính OEE",IF(O13<=0,"Không có thời gian chạy",IF(S13>1,"P > 100%: chu kỳ chuẩn đặt dài hơn thực tế?",""))))
A14: 03/10 | B14: Ca 1 | C14: Máy dập 1 | D14: MH-E | E14: 480 | F14: 60 | G14: 0 | H14: 15 | I14: 45 | J14: 20 | K14: 12 | L14: 1394 | M14: 20 | N14: =IF($E14="","",E14-F14-G14) -> 420 | O14: =IF(OR($E14="",N14<=0),"",N14-H14-I14-J14) -> 340 | P14: =IF(OR($E14="",N14<=0),"",K14*L14/60) -> 278.8 | Q14: =IF($E14="","",L14-M14) -> 1374 | R14: =IF(OR($E14="",N14<=0),"",O14/N14) -> 0.80952381 | S14: =IF(OR(OR($E14="",N14<=0),O14<=0),"",P14/O14) -> 0.82 | T14: =IF(OR(OR($E14="",N14<=0),L14<=0),"",Q14/L14) -> 0.9856528 | U14: =IF(OR(R14="",S14="",T14=""),"",R14*S14*T14) -> 0.65428571 | V14: =IF(OR($E14="",N14<=0),"",Q14*K14/60/N14) -> 0.65428571 | W14: =IF(OR($E14="",N14<=0),"",N14-O14) -> 80 | X14: =IF(OR($E14="",N14<=0),"",O14-P14) -> 61.2 | Y14: =IF(OR($E14="",N14<=0),"",M14*K14/60) -> 4 | Z14: =IF($E14="","",IF(N14<=0,"Dừng có kế hoạch cả ca — không tính OEE",IF(O14<=0,"Không có thời gian chạy",IF(S14>1,"P > 100%: chu kỳ chuẩn đặt dài hơn thực tế?",""))))
A15: 04/10 | B15: Ca 1 | C15: Máy tiện 1 | D15: MH-A | E15: 480 | F15: 60 | G15: 0 | H15: 10 | I15: 30 | J15: 5 | K15: 60 | L15: 338 | M15: 3 | N15: =IF($E15="","",E15-F15-G15) -> 420 | O15: =IF(OR($E15="",N15<=0),"",N15-H15-I15-J15) -> 375 | P15: =IF(OR($E15="",N15<=0),"",K15*L15/60) -> 338 | Q15: =IF($E15="","",L15-M15) -> 335 | R15: =IF(OR($E15="",N15<=0),"",O15/N15) -> 0.89285714 | S15: =IF(OR(OR($E15="",N15<=0),O15<=0),"",P15/O15) -> 0.90133333 | T15: =IF(OR(OR($E15="",N15<=0),L15<=0),"",Q15/L15) -> 0.99112426 | U15: =IF(OR(R15="",S15="",T15=""),"",R15*S15*T15) -> 0.79761905 | V15: =IF(OR($E15="",N15<=0),"",Q15*K15/60/N15) -> 0.79761905 | W15: =IF(OR($E15="",N15<=0),"",N15-O15) -> 45 | X15: =IF(OR($E15="",N15<=0),"",O15-P15) -> 37 | Y15: =IF(OR($E15="",N15<=0),"",M15*K15/60) -> 3 | Z15: =IF($E15="","",IF(N15<=0,"Dừng có kế hoạch cả ca — không tính OEE",IF(O15<=0,"Không có thời gian chạy",IF(S15>1,"P > 100%: chu kỳ chuẩn đặt dài hơn thực tế?",""))))
A16: 04/10 | B16: Ca 1 | C16: Máy tiện 2 | D16: MH-B | E16: 480 | F16: 60 | G16: 420 | H16: 0 | I16: 0 | J16: 0 | K16: 45 | L16: 0 | M16: 0 | N16: =IF($E16="","",E16-F16-G16) -> 0 | O16: =IF(OR($E16="",N16<=0),"",N16-H16-I16-J16) | P16: =IF(OR($E16="",N16<=0),"",K16*L16/60) | Q16: =IF($E16="","",L16-M16) -> 0 | R16: =IF(OR($E16="",N16<=0),"",O16/N16) | S16: =IF(OR(OR($E16="",N16<=0),O16<=0),"",P16/O16) | T16: =IF(OR(OR($E16="",N16<=0),L16<=0),"",Q16/L16) | U16: =IF(OR(R16="",S16="",T16=""),"",R16*S16*T16) | V16: =IF(OR($E16="",N16<=0),"",Q16*K16/60/N16) | W16: =IF(OR($E16="",N16<=0),"",N16-O16) | X16: =IF(OR($E16="",N16<=0),"",O16-P16) | Y16: =IF(OR($E16="",N16<=0),"",M16*K16/60) | Z16: =IF($E16="","",IF(N16<=0,"Dừng có kế hoạch cả ca — không tính OEE",IF(O16<=0,"Không có thời gian chạy",IF(S16>1,"P > 100%: chu kỳ chuẩn đặt dài hơn thực tế?","")))) -> Dừng có kế hoạch cả ca — không tính OEE
A17: 04/10 | B17: Ca 1 | C17: Máy dập 1 | D17: MH-E | E17: 480 | F17: 60 | G17: 0 | H17: 40 | I17: 30 | J17: 5 | K17: 12 | L17: 1380 | M17: 18 | N17: =IF($E17="","",E17-F17-G17) -> 420 | O17: =IF(OR($E17="",N17<=0),"",N17-H17-I17-J17) -> 345 | P17: =IF(OR($E17="",N17<=0),"",K17*L17/60) -> 276 | Q17: =IF($E17="","",L17-M17) -> 1362 | R17: =IF(OR($E17="",N17<=0),"",O17/N17) -> 0.82142857 | S17: =IF(OR(OR($E17="",N17<=0),O17<=0),"",P17/O17) -> 0.8 | T17: =IF(OR(OR($E17="",N17<=0),L17<=0),"",Q17/L17) -> 0.98695652 | U17: =IF(OR(R17="",S17="",T17=""),"",R17*S17*T17) -> 0.64857143 | V17: =IF(OR($E17="",N17<=0),"",Q17*K17/60/N17) -> 0.64857143 | W17: =IF(OR($E17="",N17<=0),"",N17-O17) -> 75 | X17: =IF(OR($E17="",N17<=0),"",O17-P17) -> 69 | Y17: =IF(OR($E17="",N17<=0),"",M17*K17/60) -> 3.6 | Z17: =IF($E17="","",IF(N17<=0,"Dừng có kế hoạch cả ca — không tính OEE",IF(O17<=0,"Không có thời gian chạy",IF(S17>1,"P > 100%: chu kỳ chuẩn đặt dài hơn thực tế?",""))))
N18: =IF($E18="","",E18-F18-G18) | O18: =IF(OR($E18="",N18<=0),"",N18-H18-I18-J18) | P18: =IF(OR($E18="",N18<=0),"",K18*L18/60) | Q18: =IF($E18="","",L18-M18) | R18: =IF(OR($E18="",N18<=0),"",O18/N18) | S18: =IF(OR(OR($E18="",N18<=0),O18<=0),"",P18/O18) | T18: =IF(OR(OR($E18="",N18<=0),L18<=0),"",Q18/L18) | U18: =IF(OR(R18="",S18="",T18=""),"",R18*S18*T18) | V18: =IF(OR($E18="",N18<=0),"",Q18*K18/60/N18) | W18: =IF(OR($E18="",N18<=0),"",N18-O18) | X18: =IF(OR($E18="",N18<=0),"",O18-P18) | Y18: =IF(OR($E18="",N18<=0),"",M18*K18/60) | Z18: =IF($E18="","",IF(N18<=0,"Dừng có kế hoạch cả ca — không tính OEE",IF(O18<=0,"Không có thời gian chạy",IF(S18>1,"P > 100%: chu kỳ chuẩn đặt dài hơn thực tế?",""))))
N19: =IF($E19="","",E19-F19-G19) | O19: =IF(OR($E19="",N19<=0),"",N19-H19-I19-J19) | P19: =IF(OR($E19="",N19<=0),"",K19*L19/60) | Q19: =IF($E19="","",L19-M19) | R19: =IF(OR($E19="",N19<=0),"",O19/N19) | S19: =IF(OR(OR($E19="",N19<=0),O19<=0),"",P19/O19) | T19: =IF(OR(OR($E19="",N19<=0),L19<=0),"",Q19/L19) | U19: =IF(OR(R19="",S19="",T19=""),"",R19*S19*T19) | V19: =IF(OR($E19="",N19<=0),"",Q19*K19/60/N19) | W19: =IF(OR($E19="",N19<=0),"",N19-O19) | X19: =IF(OR($E19="",N19<=0),"",O19-P19) | Y19: =IF(OR($E19="",N19<=0),"",M19*K19/60) | Z19: =IF($E19="","",IF(N19<=0,"Dừng có kế hoạch cả ca — không tính OEE",IF(O19<=0,"Không có thời gian chạy",IF(S19>1,"P > 100%: chu kỳ chuẩn đặt dài hơn thực tế?",""))))
N20: =IF($E20="","",E20-F20-G20) | O20: =IF(OR($E20="",N20<=0),"",N20-H20-I20-J20) | P20: =IF(OR($E20="",N20<=0),"",K20*L20/60) | Q20: =IF($E20="","",L20-M20) | R20: =IF(OR($E20="",N20<=0),"",O20/N20) | S20: =IF(OR(OR($E20="",N20<=0),O20<=0),"",P20/O20) | T20: =IF(OR(OR($E20="",N20<=0),L20<=0),"",Q20/L20) | U20: =IF(OR(R20="",S20="",T20=""),"",R20*S20*T20) | V20: =IF(OR($E20="",N20<=0),"",Q20*K20/60/N20) | W20: =IF(OR($E20="",N20<=0),"",N20-O20) | X20: =IF(OR($E20="",N20<=0),"",O20-P20) | Y20: =IF(OR($E20="",N20<=0),"",M20*K20/60) | Z20: =IF($E20="","",IF(N20<=0,"Dừng có kế hoạch cả ca — không tính OEE",IF(O20<=0,"Không có thời gian chạy",IF(S20>1,"P > 100%: chu kỳ chuẩn đặt dài hơn thực tế?",""))))
N21: =IF($E21="","",E21-F21-G21) | O21: =IF(OR($E21="",N21<=0),"",N21-H21-I21-J21) | P21: =IF(OR($E21="",N21<=0),"",K21*L21/60) | Q21: =IF($E21="","",L21-M21) | R21: =IF(OR($E21="",N21<=0),"",O21/N21) | S21: =IF(OR(OR($E21="",N21<=0),O21<=0),"",P21/O21) | T21: =IF(OR(OR($E21="",N21<=0),L21<=0),"",Q21/L21) | U21: =IF(OR(R21="",S21="",T21=""),"",R21*S21*T21) | V21: =IF(OR($E21="",N21<=0),"",Q21*K21/60/N21) | W21: =IF(OR($E21="",N21<=0),"",N21-O21) | X21: =IF(OR($E21="",N21<=0),"",O21-P21) | Y21: =IF(OR($E21="",N21<=0),"",M21*K21/60) | Z21: =IF($E21="","",IF(N21<=0,"Dừng có kế hoạch cả ca — không tính OEE",IF(O21<=0,"Không có thời gian chạy",IF(S21>1,"P > 100%: chu kỳ chuẩn đặt dài hơn thực tế?",""))))
N22: =IF($E22="","",E22-F22-G22) | O22: =IF(OR($E22="",N22<=0),"",N22-H22-I22-J22) | P22: =IF(OR($E22="",N22<=0),"",K22*L22/60) | Q22: =IF($E22="","",L22-M22) | R22: =IF(OR($E22="",N22<=0),"",O22/N22) | S22: =IF(OR(OR($E22="",N22<=0),O22<=0),"",P22/O22) | T22: =IF(OR(OR($E22="",N22<=0),L22<=0),"",Q22/L22) | U22: =IF(OR(R22="",S22="",T22=""),"",R22*S22*T22) | V22: =IF(OR($E22="",N22<=0),"",Q22*K22/60/N22) | W22: =IF(OR($E22="",N22<=0),"",N22-O22) | X22: =IF(OR($E22="",N22<=0),"",O22-P22) | Y22: =IF(OR($E22="",N22<=0),"",M22*K22/60) | Z22: =IF($E22="","",IF(N22<=0,"Dừng có kế hoạch cả ca — không tính OEE",IF(O22<=0,"Không có thời gian chạy",IF(S22>1,"P > 100%: chu kỳ chuẩn đặt dài hơn thực tế?",""))))
N23: =IF($E23="","",E23-F23-G23) | O23: =IF(OR($E23="",N23<=0),"",N23-H23-I23-J23) | P23: =IF(OR($E23="",N23<=0),"",K23*L23/60) | Q23: =IF($E23="","",L23-M23) | R23: =IF(OR($E23="",N23<=0),"",O23/N23) | S23: =IF(OR(OR($E23="",N23<=0),O23<=0),"",P23/O23) | T23: =IF(OR(OR($E23="",N23<=0),L23<=0),"",Q23/L23) | U23: =IF(OR(R23="",S23="",T23=""),"",R23*S23*T23) | V23: =IF(OR($E23="",N23<=0),"",Q23*K23/60/N23) | W23: =IF(OR($E23="",N23<=0),"",N23-O23) | X23: =IF(OR($E23="",N23<=0),"",O23-P23) | Y23: =IF(OR($E23="",N23<=0),"",M23*K23/60) | Z23: =IF($E23="","",IF(N23<=0,"Dừng có kế hoạch cả ca — không tính OEE",IF(O23<=0,"Không có thời gian chạy",IF(S23>1,"P > 100%: chu kỳ chuẩn đặt dài hơn thực tế?",""))))
N24: =IF($E24="","",E24-F24-G24) | O24: =IF(OR($E24="",N24<=0),"",N24-H24-I24-J24) | P24: =IF(OR($E24="",N24<=0),"",K24*L24/60) | Q24: =IF($E24="","",L24-M24) | R24: =IF(OR($E24="",N24<=0),"",O24/N24) | S24: =IF(OR(OR($E24="",N24<=0),O24<=0),"",P24/O24) | T24: =IF(OR(OR($E24="",N24<=0),L24<=0),"",Q24/L24) | U24: =IF(OR(R24="",S24="",T24=""),"",R24*S24*T24) | V24: =IF(OR($E24="",N24<=0),"",Q24*K24/60/N24) | W24: =IF(OR($E24="",N24<=0),"",N24-O24) | X24: =IF(OR($E24="",N24<=0),"",O24-P24) | Y24: =IF(OR($E24="",N24<=0),"",M24*K24/60) | Z24: =IF($E24="","",IF(N24<=0,"Dừng có kế hoạch cả ca — không tính OEE",IF(O24<=0,"Không có thời gian chạy",IF(S24>1,"P > 100%: chu kỳ chuẩn đặt dài hơn thực tế?",""))))
N25: =IF($E25="","",E25-F25-G25) | O25: =IF(OR($E25="",N25<=0),"",N25-H25-I25-J25) | P25: =IF(OR($E25="",N25<=0),"",K25*L25/60) | Q25: =IF($E25="","",L25-M25) | R25: =IF(OR($E25="",N25<=0),"",O25/N25) | S25: =IF(OR(OR($E25="",N25<=0),O25<=0),"",P25/O25) | T25: =IF(OR(OR($E25="",N25<=0),L25<=0),"",Q25/L25) | U25: =IF(OR(R25="",S25="",T25=""),"",R25*S25*T25) | V25: =IF(OR($E25="",N25<=0),"",Q25*K25/60/N25) | W25: =IF(OR($E25="",N25<=0),"",N25-O25) | X25: =IF(OR($E25="",N25<=0),"",O25-P25) | Y25: =IF(OR($E25="",N25<=0),"",M25*K25/60) | Z25: =IF($E25="","",IF(N25<=0,"Dừng có kế hoạch cả ca — không tính OEE",IF(O25<=0,"Không có thời gian chạy",IF(S25>1,"P > 100%: chu kỳ chuẩn đặt dài hơn thực tế?",""))))
N26: =IF($E26="","",E26-F26-G26) | O26: =IF(OR($E26="",N26<=0),"",N26-H26-I26-J26) | P26: =IF(OR($E26="",N26<=0),"",K26*L26/60) | Q26: =IF($E26="","",L26-M26) | R26: =IF(OR($E26="",N26<=0),"",O26/N26) | S26: =IF(OR(OR($E26="",N26<=0),O26<=0),"",P26/O26) | T26: =IF(OR(OR($E26="",N26<=0),L26<=0),"",Q26/L26) | U26: =IF(OR(R26="",S26="",T26=""),"",R26*S26*T26) | V26: =IF(OR($E26="",N26<=0),"",Q26*K26/60/N26) | W26: =IF(OR($E26="",N26<=0),"",N26-O26) | X26: =IF(OR($E26="",N26<=0),"",O26-P26) | Y26: =IF(OR($E26="",N26<=0),"",M26*K26/60) | Z26: =IF($E26="","",IF(N26<=0,"Dừng có kế hoạch cả ca — không tính OEE",IF(O26<=0,"Không có thời gian chạy",IF(S26>1,"P > 100%: chu kỳ chuẩn đặt dài hơn thực tế?",""))))
N27: =IF($E27="","",E27-F27-G27) | O27: =IF(OR($E27="",N27<=0),"",N27-H27-I27-J27) | P27: =IF(OR($E27="",N27<=0),"",K27*L27/60) | Q27: =IF($E27="","",L27-M27) | R27: =IF(OR($E27="",N27<=0),"",O27/N27) | S27: =IF(OR(OR($E27="",N27<=0),O27<=0),"",P27/O27) | T27: =IF(OR(OR($E27="",N27<=0),L27<=0),"",Q27/L27) | U27: =IF(OR(R27="",S27="",T27=""),"",R27*S27*T27) | V27: =IF(OR($E27="",N27<=0),"",Q27*K27/60/N27) | W27: =IF(OR($E27="",N27<=0),"",N27-O27) | X27: =IF(OR($E27="",N27<=0),"",O27-P27) | Y27: =IF(OR($E27="",N27<=0),"",M27*K27/60) | Z27: =IF($E27="","",IF(N27<=0,"Dừng có kế hoạch cả ca — không tính OEE",IF(O27<=0,"Không có thời gian chạy",IF(S27>1,"P > 100%: chu kỳ chuẩn đặt dài hơn thực tế?",""))))
N28: =IF($E28="","",E28-F28-G28) | O28: =IF(OR($E28="",N28<=0),"",N28-H28-I28-J28) | P28: =IF(OR($E28="",N28<=0),"",K28*L28/60) | Q28: =IF($E28="","",L28-M28) | R28: =IF(OR($E28="",N28<=0),"",O28/N28) | S28: =IF(OR(OR($E28="",N28<=0),O28<=0),"",P28/O28) | T28: =IF(OR(OR($E28="",N28<=0),L28<=0),"",Q28/L28) | U28: =IF(OR(R28="",S28="",T28=""),"",R28*S28*T28) | V28: =IF(OR($E28="",N28<=0),"",Q28*K28/60/N28) | W28: =IF(OR($E28="",N28<=0),"",N28-O28) | X28: =IF(OR($E28="",N28<=0),"",O28-P28) | Y28: =IF(OR($E28="",N28<=0),"",M28*K28/60) | Z28: =IF($E28="","",IF(N28<=0,"Dừng có kế hoạch cả ca — không tính OEE",IF(O28<=0,"Không có thời gian chạy",IF(S28>1,"P > 100%: chu kỳ chuẩn đặt dài hơn thực tế?",""))))
N29: =IF($E29="","",E29-F29-G29) | O29: =IF(OR($E29="",N29<=0),"",N29-H29-I29-J29) | P29: =IF(OR($E29="",N29<=0),"",K29*L29/60) | Q29: =IF($E29="","",L29-M29) | R29: =IF(OR($E29="",N29<=0),"",O29/N29) | S29: =IF(OR(OR($E29="",N29<=0),O29<=0),"",P29/O29) | T29: =IF(OR(OR($E29="",N29<=0),L29<=0),"",Q29/L29) | U29: =IF(OR(R29="",S29="",T29=""),"",R29*S29*T29) | V29: =IF(OR($E29="",N29<=0),"",Q29*K29/60/N29) | W29: =IF(OR($E29="",N29<=0),"",N29-O29) | X29: =IF(OR($E29="",N29<=0),"",O29-P29) | Y29: =IF(OR($E29="",N29<=0),"",M29*K29/60) | Z29: =IF($E29="","",IF(N29<=0,"Dừng có kế hoạch cả ca — không tính OEE",IF(O29<=0,"Không có thời gian chạy",IF(S29>1,"P > 100%: chu kỳ chuẩn đặt dài hơn thực tế?",""))))
... N45: =IF($E45="","",E45-F45-G45) | O45: =IF(OR($E45="",N45<=0),"",N45-H45-I45-J45) | P45: =IF(OR($E45="",N45<=0),"",K45*L45/60) | Q45: =IF($E45="","",L45-M45) | R45: =IF(OR($E45="",N45<=0),"",O45/N45) | S45: =IF(OR(OR($E45="",N45<=0),O45<=0),"",P45/O45) | T45: =IF(OR(OR($E45="",N45<=0),L45<=0),"",Q45/L45) | U45: =IF(OR(R45="",S45="",T45=""),"",R45*S45*T45) | V45: =IF(OR($E45="",N45<=0),"",Q45*K45/60/N45) | W45: =IF(OR($E45="",N45<=0),"",N45-O45) | X45: =IF(OR($E45="",N45<=0),"",O45-P45) | Y45: =IF(OR($E45="",N45<=0),"",M45*K45/60) | Z45: =IF($E45="","",IF(N45<=0,"Dừng có kế hoạch cả ca — không tính OEE",IF(O45<=0,"Không có thời gian chạy",IF(S45>1,"P > 100%: chu kỳ chuẩn đặt dài hơn thực tế?",""))))

Sheet Tổng hợp theo máy
A1: TỔNG HỢP OEE THEO MÁY — CỘNG THỜI GIAN VÀ SẢN LƯỢNG RỒI MỚI CHIA
A2: Cột "OEE" = cộng rồi mới chia (bình quân có trọng số). Cột xám = trung bình cộng OEE các ca, để thấy hai cách gộp khác nhau thế nào. Ca có thời gian kế hoạch = 0 không được tính vào cả hai.
A4: Máy | B4: Số ca có OEE | C4: Thời gian kế hoạch (phút) | D4: Thời gian chạy (phút) | E4: Thời gian chuẩn đã làm (phút) | F4: Sản lượng (sp) | G4: Hàng đạt (sp) | H4: Sẵn sàng A | I4: Hiệu suất P | J4: Chất lượng Q | K4: OEE (cộng rồi chia) | L4: OEE trung bình cộng các ca | M4: Số ca P > 100% | N4: Tổn thất dừng máy (phút) | O4: Tổn thất tốc độ (phút) | P4: Tổn thất chất lượng (phút)
A5: Máy tiện 1 | B5: =IF($A5="","",COUNTIFS('Nhập theo ca'!$C$6:$C$45,$A5,'Nhập theo ca'!$N$6:$N$45,">0")) -> 4 | C5: =IF($A5="","",SUMIFS('Nhập theo ca'!$N$6:$N$45,'Nhập theo ca'!$C$6:$C$45,$A5,'Nhập theo ca'!$N$6:$N$45,">0")) -> 1650 | D5: =IF($A5="","",SUMIFS('Nhập theo ca'!$O$6:$O$45,'Nhập theo ca'!$C$6:$C$45,$A5,'Nhập theo ca'!$N$6:$N$45,">0")) -> 1455 | E5: =IF($A5="","",SUMIFS('Nhập theo ca'!$P$6:$P$45,'Nhập theo ca'!$C$6:$C$45,$A5,'Nhập theo ca'!$N$6:$N$45,">0")) -> 1311 | F5: =IF($A5="","",SUMIFS('Nhập theo ca'!$L$6:$L$45,'Nhập theo ca'!$C$6:$C$45,$A5,'Nhập theo ca'!$N$6:$N$45,">0")) -> 1311 | G5: =IF($A5="","",SUMIFS('Nhập theo ca'!$Q$6:$Q$45,'Nhập theo ca'!$C$6:$C$45,$A5,'Nhập theo ca'!$N$6:$N$45,">0")) -> 1288 | H5: =IF($A5="","",IF(C5<=0,"",D5/C5)) -> 0.88181818 | I5: =IF($A5="","",IF(OR(H5="",D5<=0),"",E5/D5)) -> 0.90103093 | J5: =IF($A5="","",IF(OR(H5="",F5<=0),"",G5/F5)) -> 0.98245614 | K5: =IF($A5="","",IF(OR(H5="",I5="",J5=""),"",H5*I5*J5)) -> 0.78060606 | L5: =IF($A5="","",IF(B5<=0,"",AVERAGEIFS('Nhập theo ca'!$U$6:$U$45,'Nhập theo ca'!$C$6:$C$45,$A5,'Nhập theo ca'!$N$6:$N$45,">0"))) -> 0.77967033 | M5: =IF($A5="","",COUNTIFS('Nhập theo ca'!$C$6:$C$45,$A5,'Nhập theo ca'!$N$6:$N$45,">0",'Nhập theo ca'!$S$6:$S$45,">1")) -> 0 | N5: =IF($A5="","",SUMIFS('Nhập theo ca'!$W$6:$W$45,'Nhập theo ca'!$C$6:$C$45,$A5,'Nhập theo ca'!$N$6:$N$45,">0")) -> 195 | O5: =IF($A5="","",SUMIFS('Nhập theo ca'!$X$6:$X$45,'Nhập theo ca'!$C$6:$C$45,$A5,'Nhập theo ca'!$N$6:$N$45,">0")) -> 144 | P5: =IF($A5="","",SUMIFS('Nhập theo ca'!$Y$6:$Y$45,'Nhập theo ca'!$C$6:$C$45,$A5,'Nhập theo ca'!$N$6:$N$45,">0")) -> 23
A6: Máy tiện 2 | B6: =IF($A6="","",COUNTIFS('Nhập theo ca'!$C$6:$C$45,$A6,'Nhập theo ca'!$N$6:$N$45,">0")) -> 3 | C6: =IF($A6="","",SUMIFS('Nhập theo ca'!$N$6:$N$45,'Nhập theo ca'!$C$6:$C$45,$A6,'Nhập theo ca'!$N$6:$N$45,">0")) -> 1260 | D6: =IF($A6="","",SUMIFS('Nhập theo ca'!$O$6:$O$45,'Nhập theo ca'!$C$6:$C$45,$A6,'Nhập theo ca'!$N$6:$N$45,">0")) -> 1100 | E6: =IF($A6="","",SUMIFS('Nhập theo ca'!$P$6:$P$45,'Nhập theo ca'!$C$6:$C$45,$A6,'Nhập theo ca'!$N$6:$N$45,">0")) -> 960.75 | F6: =IF($A6="","",SUMIFS('Nhập theo ca'!$L$6:$L$45,'Nhập theo ca'!$C$6:$C$45,$A6,'Nhập theo ca'!$N$6:$N$45,">0")) -> 1281 | G6: =IF($A6="","",SUMIFS('Nhập theo ca'!$Q$6:$Q$45,'Nhập theo ca'!$C$6:$C$45,$A6,'Nhập theo ca'!$N$6:$N$45,">0")) -> 1260 | H6: =IF($A6="","",IF(C6<=0,"",D6/C6)) -> 0.87301587 | I6: =IF($A6="","",IF(OR(H6="",D6<=0),"",E6/D6)) -> 0.87340909 | J6: =IF($A6="","",IF(OR(H6="",F6<=0),"",G6/F6)) -> 0.98360656 | K6: =IF($A6="","",IF(OR(H6="",I6="",J6=""),"",H6*I6*J6)) -> 0.75 | L6: =IF($A6="","",IF(B6<=0,"",AVERAGEIFS('Nhập theo ca'!$U$6:$U$45,'Nhập theo ca'!$C$6:$C$45,$A6,'Nhập theo ca'!$N$6:$N$45,">0"))) -> 0.75 | M6: =IF($A6="","",COUNTIFS('Nhập theo ca'!$C$6:$C$45,$A6,'Nhập theo ca'!$N$6:$N$45,">0",'Nhập theo ca'!$S$6:$S$45,">1")) -> 0 | N6: =IF($A6="","",SUMIFS('Nhập theo ca'!$W$6:$W$45,'Nhập theo ca'!$C$6:$C$45,$A6,'Nhập theo ca'!$N$6:$N$45,">0")) -> 160 | O6: =IF($A6="","",SUMIFS('Nhập theo ca'!$X$6:$X$45,'Nhập theo ca'!$C$6:$C$45,$A6,'Nhập theo ca'!$N$6:$N$45,">0")) -> 139.25 | P6: =IF($A6="","",SUMIFS('Nhập theo ca'!$Y$6:$Y$45,'Nhập theo ca'!$C$6:$C$45,$A6,'Nhập theo ca'!$N$6:$N$45,">0")) -> 15.75
A7: Máy dập 1 | B7: =IF($A7="","",COUNTIFS('Nhập theo ca'!$C$6:$C$45,$A7,'Nhập theo ca'!$N$6:$N$45,">0")) -> 4 | C7: =IF($A7="","",SUMIFS('Nhập theo ca'!$N$6:$N$45,'Nhập theo ca'!$C$6:$C$45,$A7,'Nhập theo ca'!$N$6:$N$45,">0")) -> 1680 | D7: =IF($A7="","",SUMIFS('Nhập theo ca'!$O$6:$O$45,'Nhập theo ca'!$C$6:$C$45,$A7,'Nhập theo ca'!$N$6:$N$45,">0")) -> 1355 | E7: =IF($A7="","",SUMIFS('Nhập theo ca'!$P$6:$P$45,'Nhập theo ca'!$C$6:$C$45,$A7,'Nhập theo ca'!$N$6:$N$45,">0")) -> 1342.8 | F7: =IF($A7="","",SUMIFS('Nhập theo ca'!$L$6:$L$45,'Nhập theo ca'!$C$6:$C$45,$A7,'Nhập theo ca'!$N$6:$N$45,">0")) -> 4350 | G7: =IF($A7="","",SUMIFS('Nhập theo ca'!$Q$6:$Q$45,'Nhập theo ca'!$C$6:$C$45,$A7,'Nhập theo ca'!$N$6:$N$45,">0")) -> 4285 | H7: =IF($A7="","",IF(C7<=0,"",D7/C7)) -> 0.80654762 | I7: =IF($A7="","",IF(OR(H7="",D7<=0),"",E7/D7)) -> 0.99099631 | J7: =IF($A7="","",IF(OR(H7="",F7<=0),"",G7/F7)) -> 0.98505747 | K7: =IF($A7="","",IF(OR(H7="",I7="",J7=""),"",H7*I7*J7)) -> 0.78734236 | L7: =IF($A7="","",IF(B7<=0,"",AVERAGEIFS('Nhập theo ca'!$U$6:$U$45,'Nhập theo ca'!$C$6:$C$45,$A7,'Nhập theo ca'!$N$6:$N$45,">0"))) -> 0.78672619 | M7: =IF($A7="","",COUNTIFS('Nhập theo ca'!$C$6:$C$45,$A7,'Nhập theo ca'!$N$6:$N$45,">0",'Nhập theo ca'!$S$6:$S$45,">1")) -> 2 | N7: =IF($A7="","",SUMIFS('Nhập theo ca'!$W$6:$W$45,'Nhập theo ca'!$C$6:$C$45,$A7,'Nhập theo ca'!$N$6:$N$45,">0")) -> 325 | O7: =IF($A7="","",SUMIFS('Nhập theo ca'!$X$6:$X$45,'Nhập theo ca'!$C$6:$C$45,$A7,'Nhập theo ca'!$N$6:$N$45,">0")) -> 12.2 | P7: =IF($A7="","",SUMIFS('Nhập theo ca'!$Y$6:$Y$45,'Nhập theo ca'!$C$6:$C$45,$A7,'Nhập theo ca'!$N$6:$N$45,">0")) -> 21.1
B8: =IF($A8="","",COUNTIFS('Nhập theo ca'!$C$6:$C$45,$A8,'Nhập theo ca'!$N$6:$N$45,">0")) | C8: =IF($A8="","",SUMIFS('Nhập theo ca'!$N$6:$N$45,'Nhập theo ca'!$C$6:$C$45,$A8,'Nhập theo ca'!$N$6:$N$45,">0")) | D8: =IF($A8="","",SUMIFS('Nhập theo ca'!$O$6:$O$45,'Nhập theo ca'!$C$6:$C$45,$A8,'Nhập theo ca'!$N$6:$N$45,">0")) | E8: =IF($A8="","",SUMIFS('Nhập theo ca'!$P$6:$P$45,'Nhập theo ca'!$C$6:$C$45,$A8,'Nhập theo ca'!$N$6:$N$45,">0")) | F8: =IF($A8="","",SUMIFS('Nhập theo ca'!$L$6:$L$45,'Nhập theo ca'!$C$6:$C$45,$A8,'Nhập theo ca'!$N$6:$N$45,">0")) | G8: =IF($A8="","",SUMIFS('Nhập theo ca'!$Q$6:$Q$45,'Nhập theo ca'!$C$6:$C$45,$A8,'Nhập theo ca'!$N$6:$N$45,">0")) | H8: =IF($A8="","",IF(C8<=0,"",D8/C8)) | I8: =IF($A8="","",IF(OR(H8="",D8<=0),"",E8/D8)) | J8: =IF($A8="","",IF(OR(H8="",F8<=0),"",G8/F8)) | K8: =IF($A8="","",IF(OR(H8="",I8="",J8=""),"",H8*I8*J8)) | L8: =IF($A8="","",IF(B8<=0,"",AVERAGEIFS('Nhập theo ca'!$U$6:$U$45,'Nhập theo ca'!$C$6:$C$45,$A8,'Nhập theo ca'!$N$6:$N$45,">0"))) | M8: =IF($A8="","",COUNTIFS('Nhập theo ca'!$C$6:$C$45,$A8,'Nhập theo ca'!$N$6:$N$45,">0",'Nhập theo ca'!$S$6:$S$45,">1")) | N8: =IF($A8="","",SUMIFS('Nhập theo ca'!$W$6:$W$45,'Nhập theo ca'!$C$6:$C$45,$A8,'Nhập theo ca'!$N$6:$N$45,">0")) | O8: =IF($A8="","",SUMIFS('Nhập theo ca'!$X$6:$X$45,'Nhập theo ca'!$C$6:$C$45,$A8,'Nhập theo ca'!$N$6:$N$45,">0")) | P8: =IF($A8="","",SUMIFS('Nhập theo ca'!$Y$6:$Y$45,'Nhập theo ca'!$C$6:$C$45,$A8,'Nhập theo ca'!$N$6:$N$45,">0"))
B9: =IF($A9="","",COUNTIFS('Nhập theo ca'!$C$6:$C$45,$A9,'Nhập theo ca'!$N$6:$N$45,">0")) | C9: =IF($A9="","",SUMIFS('Nhập theo ca'!$N$6:$N$45,'Nhập theo ca'!$C$6:$C$45,$A9,'Nhập theo ca'!$N$6:$N$45,">0")) | D9: =IF($A9="","",SUMIFS('Nhập theo ca'!$O$6:$O$45,'Nhập theo ca'!$C$6:$C$45,$A9,'Nhập theo ca'!$N$6:$N$45,">0")) | E9: =IF($A9="","",SUMIFS('Nhập theo ca'!$P$6:$P$45,'Nhập theo ca'!$C$6:$C$45,$A9,'Nhập theo ca'!$N$6:$N$45,">0")) | F9: =IF($A9="","",SUMIFS('Nhập theo ca'!$L$6:$L$45,'Nhập theo ca'!$C$6:$C$45,$A9,'Nhập theo ca'!$N$6:$N$45,">0")) | G9: =IF($A9="","",SUMIFS('Nhập theo ca'!$Q$6:$Q$45,'Nhập theo ca'!$C$6:$C$45,$A9,'Nhập theo ca'!$N$6:$N$45,">0")) | H9: =IF($A9="","",IF(C9<=0,"",D9/C9)) | I9: =IF($A9="","",IF(OR(H9="",D9<=0),"",E9/D9)) | J9: =IF($A9="","",IF(OR(H9="",F9<=0),"",G9/F9)) | K9: =IF($A9="","",IF(OR(H9="",I9="",J9=""),"",H9*I9*J9)) | L9: =IF($A9="","",IF(B9<=0,"",AVERAGEIFS('Nhập theo ca'!$U$6:$U$45,'Nhập theo ca'!$C$6:$C$45,$A9,'Nhập theo ca'!$N$6:$N$45,">0"))) | M9: =IF($A9="","",COUNTIFS('Nhập theo ca'!$C$6:$C$45,$A9,'Nhập theo ca'!$N$6:$N$45,">0",'Nhập theo ca'!$S$6:$S$45,">1")) | N9: =IF($A9="","",SUMIFS('Nhập theo ca'!$W$6:$W$45,'Nhập theo ca'!$C$6:$C$45,$A9,'Nhập theo ca'!$N$6:$N$45,">0")) | O9: =IF($A9="","",SUMIFS('Nhập theo ca'!$X$6:$X$45,'Nhập theo ca'!$C$6:$C$45,$A9,'Nhập theo ca'!$N$6:$N$45,">0")) | P9: =IF($A9="","",SUMIFS('Nhập theo ca'!$Y$6:$Y$45,'Nhập theo ca'!$C$6:$C$45,$A9,'Nhập theo ca'!$N$6:$N$45,">0"))
B10: =IF($A10="","",COUNTIFS('Nhập theo ca'!$C$6:$C$45,$A10,'Nhập theo ca'!$N$6:$N$45,">0")) | C10: =IF($A10="","",SUMIFS('Nhập theo ca'!$N$6:$N$45,'Nhập theo ca'!$C$6:$C$45,$A10,'Nhập theo ca'!$N$6:$N$45,">0")) | D10: =IF($A10="","",SUMIFS('Nhập theo ca'!$O$6:$O$45,'Nhập theo ca'!$C$6:$C$45,$A10,'Nhập theo ca'!$N$6:$N$45,">0")) | E10: =IF($A10="","",SUMIFS('Nhập theo ca'!$P$6:$P$45,'Nhập theo ca'!$C$6:$C$45,$A10,'Nhập theo ca'!$N$6:$N$45,">0")) | F10: =IF($A10="","",SUMIFS('Nhập theo ca'!$L$6:$L$45,'Nhập theo ca'!$C$6:$C$45,$A10,'Nhập theo ca'!$N$6:$N$45,">0")) | G10: =IF($A10="","",SUMIFS('Nhập theo ca'!$Q$6:$Q$45,'Nhập theo ca'!$C$6:$C$45,$A10,'Nhập theo ca'!$N$6:$N$45,">0")) | H10: =IF($A10="","",IF(C10<=0,"",D10/C10)) | I10: =IF($A10="","",IF(OR(H10="",D10<=0),"",E10/D10)) | J10: =IF($A10="","",IF(OR(H10="",F10<=0),"",G10/F10)) | K10: =IF($A10="","",IF(OR(H10="",I10="",J10=""),"",H10*I10*J10)) | L10: =IF($A10="","",IF(B10<=0,"",AVERAGEIFS('Nhập theo ca'!$U$6:$U$45,'Nhập theo ca'!$C$6:$C$45,$A10,'Nhập theo ca'!$N$6:$N$45,">0"))) | M10: =IF($A10="","",COUNTIFS('Nhập theo ca'!$C$6:$C$45,$A10,'Nhập theo ca'!$N$6:$N$45,">0",'Nhập theo ca'!$S$6:$S$45,">1")) | N10: =IF($A10="","",SUMIFS('Nhập theo ca'!$W$6:$W$45,'Nhập theo ca'!$C$6:$C$45,$A10,'Nhập theo ca'!$N$6:$N$45,">0")) | O10: =IF($A10="","",SUMIFS('Nhập theo ca'!$X$6:$X$45,'Nhập theo ca'!$C$6:$C$45,$A10,'Nhập theo ca'!$N$6:$N$45,">0")) | P10: =IF($A10="","",SUMIFS('Nhập theo ca'!$Y$6:$Y$45,'Nhập theo ca'!$C$6:$C$45,$A10,'Nhập theo ca'!$N$6:$N$45,">0"))
B11: =IF($A11="","",COUNTIFS('Nhập theo ca'!$C$6:$C$45,$A11,'Nhập theo ca'!$N$6:$N$45,">0")) | C11: =IF($A11="","",SUMIFS('Nhập theo ca'!$N$6:$N$45,'Nhập theo ca'!$C$6:$C$45,$A11,'Nhập theo ca'!$N$6:$N$45,">0")) | D11: =IF($A11="","",SUMIFS('Nhập theo ca'!$O$6:$O$45,'Nhập theo ca'!$C$6:$C$45,$A11,'Nhập theo ca'!$N$6:$N$45,">0")) | E11: =IF($A11="","",SUMIFS('Nhập theo ca'!$P$6:$P$45,'Nhập theo ca'!$C$6:$C$45,$A11,'Nhập theo ca'!$N$6:$N$45,">0")) | F11: =IF($A11="","",SUMIFS('Nhập theo ca'!$L$6:$L$45,'Nhập theo ca'!$C$6:$C$45,$A11,'Nhập theo ca'!$N$6:$N$45,">0")) | G11: =IF($A11="","",SUMIFS('Nhập theo ca'!$Q$6:$Q$45,'Nhập theo ca'!$C$6:$C$45,$A11,'Nhập theo ca'!$N$6:$N$45,">0")) | H11: =IF($A11="","",IF(C11<=0,"",D11/C11)) | I11: =IF($A11="","",IF(OR(H11="",D11<=0),"",E11/D11)) | J11: =IF($A11="","",IF(OR(H11="",F11<=0),"",G11/F11)) | K11: =IF($A11="","",IF(OR(H11="",I11="",J11=""),"",H11*I11*J11)) | L11: =IF($A11="","",IF(B11<=0,"",AVERAGEIFS('Nhập theo ca'!$U$6:$U$45,'Nhập theo ca'!$C$6:$C$45,$A11,'Nhập theo ca'!$N$6:$N$45,">0"))) | M11: =IF($A11="","",COUNTIFS('Nhập theo ca'!$C$6:$C$45,$A11,'Nhập theo ca'!$N$6:$N$45,">0",'Nhập theo ca'!$S$6:$S$45,">1")) | N11: =IF($A11="","",SUMIFS('Nhập theo ca'!$W$6:$W$45,'Nhập theo ca'!$C$6:$C$45,$A11,'Nhập theo ca'!$N$6:$N$45,">0")) | O11: =IF($A11="","",SUMIFS('Nhập theo ca'!$X$6:$X$45,'Nhập theo ca'!$C$6:$C$45,$A11,'Nhập theo ca'!$N$6:$N$45,">0")) | P11: =IF($A11="","",SUMIFS('Nhập theo ca'!$Y$6:$Y$45,'Nhập theo ca'!$C$6:$C$45,$A11,'Nhập theo ca'!$N$6:$N$45,">0"))
B12: =IF($A12="","",COUNTIFS('Nhập theo ca'!$C$6:$C$45,$A12,'Nhập theo ca'!$N$6:$N$45,">0")) | C12: =IF($A12="","",SUMIFS('Nhập theo ca'!$N$6:$N$45,'Nhập theo ca'!$C$6:$C$45,$A12,'Nhập theo ca'!$N$6:$N$45,">0")) | D12: =IF($A12="","",SUMIFS('Nhập theo ca'!$O$6:$O$45,'Nhập theo ca'!$C$6:$C$45,$A12,'Nhập theo ca'!$N$6:$N$45,">0")) | E12: =IF($A12="","",SUMIFS('Nhập theo ca'!$P$6:$P$45,'Nhập theo ca'!$C$6:$C$45,$A12,'Nhập theo ca'!$N$6:$N$45,">0")) | F12: =IF($A12="","",SUMIFS('Nhập theo ca'!$L$6:$L$45,'Nhập theo ca'!$C$6:$C$45,$A12,'Nhập theo ca'!$N$6:$N$45,">0")) | G12: =IF($A12="","",SUMIFS('Nhập theo ca'!$Q$6:$Q$45,'Nhập theo ca'!$C$6:$C$45,$A12,'Nhập theo ca'!$N$6:$N$45,">0")) | H12: =IF($A12="","",IF(C12<=0,"",D12/C12)) | I12: =IF($A12="","",IF(OR(H12="",D12<=0),"",E12/D12)) | J12: =IF($A12="","",IF(OR(H12="",F12<=0),"",G12/F12)) | K12: =IF($A12="","",IF(OR(H12="",I12="",J12=""),"",H12*I12*J12)) | L12: =IF($A12="","",IF(B12<=0,"",AVERAGEIFS('Nhập theo ca'!$U$6:$U$45,'Nhập theo ca'!$C$6:$C$45,$A12,'Nhập theo ca'!$N$6:$N$45,">0"))) | M12: =IF($A12="","",COUNTIFS('Nhập theo ca'!$C$6:$C$45,$A12,'Nhập theo ca'!$N$6:$N$45,">0",'Nhập theo ca'!$S$6:$S$45,">1")) | N12: =IF($A12="","",SUMIFS('Nhập theo ca'!$W$6:$W$45,'Nhập theo ca'!$C$6:$C$45,$A12,'Nhập theo ca'!$N$6:$N$45,">0")) | O12: =IF($A12="","",SUMIFS('Nhập theo ca'!$X$6:$X$45,'Nhập theo ca'!$C$6:$C$45,$A12,'Nhập theo ca'!$N$6:$N$45,">0")) | P12: =IF($A12="","",SUMIFS('Nhập theo ca'!$Y$6:$Y$45,'Nhập theo ca'!$C$6:$C$45,$A12,'Nhập theo ca'!$N$6:$N$45,">0"))
A13: Cả xưởng | B13: =COUNTIFS('Nhập theo ca'!$C$6:$C$45,"<>",'Nhập theo ca'!$N$6:$N$45,">0") -> 11 | C13: =SUMIFS('Nhập theo ca'!$N$6:$N$45,'Nhập theo ca'!$C$6:$C$45,"<>",'Nhập theo ca'!$N$6:$N$45,">0") -> 4590 | D13: =SUMIFS('Nhập theo ca'!$O$6:$O$45,'Nhập theo ca'!$C$6:$C$45,"<>",'Nhập theo ca'!$N$6:$N$45,">0") -> 3910 | E13: =SUMIFS('Nhập theo ca'!$P$6:$P$45,'Nhập theo ca'!$C$6:$C$45,"<>",'Nhập theo ca'!$N$6:$N$45,">0") -> 3614.55 | F13: =SUMIFS('Nhập theo ca'!$L$6:$L$45,'Nhập theo ca'!$C$6:$C$45,"<>",'Nhập theo ca'!$N$6:$N$45,">0") -> 6942 | G13: =SUMIFS('Nhập theo ca'!$Q$6:$Q$45,'Nhập theo ca'!$C$6:$C$45,"<>",'Nhập theo ca'!$N$6:$N$45,">0") -> 6833 | H13: =IF(C13<=0,"",D13/C13) -> 0.85185185 | I13: =IF(OR(H13="",D13<=0),"",E13/D13) -> 0.92443734 | J13: =IF(OR(H13="",F13<=0),"",G13/F13) -> 0.98429847 | K13: =IF(OR(H13="",I13="",J13=""),"",H13*I13*J13) -> 0.77511896 | L13: =IF(B13<=0,"",AVERAGEIFS('Nhập theo ca'!$U$6:$U$45,'Nhập theo ca'!$C$6:$C$45,"<>",'Nhập theo ca'!$N$6:$N$45,">0")) -> 0.77414419 | M13: =COUNTIFS('Nhập theo ca'!$C$6:$C$45,"<>",'Nhập theo ca'!$N$6:$N$45,">0",'Nhập theo ca'!$S$6:$S$45,">1") -> 2 | N13: =SUMIFS('Nhập theo ca'!$W$6:$W$45,'Nhập theo ca'!$C$6:$C$45,"<>",'Nhập theo ca'!$N$6:$N$45,">0") -> 680 | O13: =SUMIFS('Nhập theo ca'!$X$6:$X$45,'Nhập theo ca'!$C$6:$C$45,"<>",'Nhập theo ca'!$N$6:$N$45,">0") -> 295.45 | P13: =SUMIFS('Nhập theo ca'!$Y$6:$Y$45,'Nhập theo ca'!$C$6:$C$45,"<>",'Nhập theo ca'!$N$6:$N$45,">0") -> 59.85
A14: Trung bình cộng các máy | K14: =IFERROR(AVERAGE(K5:K12),"") -> 0.77264948
A15: "Cả xưởng" gộp mọi máy như một máy lớn (máy chạy nhiều giờ nặng ký hơn). "Trung bình cộng các máy" cho mỗi máy trọng số ngang nhau — một số nhà máy báo cáo tháng theo cách này. Cả hai đều dùng được, nhưng phải ghi rõ con số là loại nào trước khi đem so.

Sheet Hướng dẫn
A1: CÁCH DÙNG MẪU NÀY
A2: 1. Trang "Nhập theo ca": mỗi dòng là một máy × một ca. Điền ô nền vàng; các cột còn lại tự tính.
A3: 2. Thời gian kế hoạch = thời gian ca − nghỉ theo lịch − dừng có kế hoạch. Dừng có kế hoạch phải được quyết TRƯỚC khi máy dừng (bảo trì định kỳ, không có đơn hàng); khai bù sau khi máy hỏng là hợp thức hoá tổn thất.
A4: 3. Chu kỳ chuẩn theo TỪNG mã hàng. Sản lượng gồm cả hàng lỗi.
A5: 4. Trang "Tổng hợp theo máy" cộng phút và sản phẩm rồi mới chia — không lấy trung bình các phần trăm.
A7: CÔNG THỨC (ISO 22400-2)
A8: Sẵn sàng A = thời gian chạy ÷ thời gian kế hoạch (APT ÷ PBT)
A9: Hiệu suất P = chu kỳ chuẩn × sản lượng ÷ thời gian chạy (PRI × PQ ÷ APT)
A10: Chất lượng Q = hàng đạt ÷ sản lượng (GQ ÷ PQ)
A11: OEE = A × P × Q = hàng đạt × chu kỳ chuẩn ÷ thời gian kế hoạch (cột "Kiểm tra nhanh")
A13: BA LOẠI TỔN THẤT (phút)
A14: Dừng máy = thời gian kế hoạch − thời gian chạy · Tốc độ = thời gian chạy − thời gian chuẩn đã làm · Chất lượng = hàng lỗi × chu kỳ chuẩn. Ba loại cộng với phút làm ra hàng đạt đúng bằng thời gian kế hoạch.
... A21: Mẫu miễn phí của OEE.vn (SAMITECH) — được dùng, sửa và chia sẻ tự do.
